BEGIN:VCALENDAR
VERSION:2.0
METHOD:PUBLISH
PRODID:-//Agenda.ad//NONSGML v1.0//EN
BEGIN:VEVENT
CLASS:PUBLIC
UID:1fa8aa2a12e395003a9e41cc22aba4b8@agenda.ad
DTSTAMP:20260424T072451Z
DTSTART:20191206T230000Z
DTEND:20191206T230000Z
SUMMARY:<strong>Concert de Nadal</strong><span>&nbsp;del Cor dels Petits Cantors del Principat d&rsquo;Andorra</span>
DESCRIPTION:\n\nMés informació\nhttps://www.agenda.ad/activitat/andorr
 a-la-vella/musica/concert-de-nadal del-cor-dels-petits-cant
 ors-del-principat-dandorra\n\n\nOrganitza\nPetits Cantors de
 l Principat d'Andorra
LOCATION:Centre de Congressos d'Andorra la Vella
SEQUENCE:0
TRANSP:OPAQUE
X-ALT-DESC;FMTTYPE=text/html:<!DOCTYPE HTML PUBLIC "-//W3C//DTD HTML 3.2//EN"><HTML><HEAD
 ><TITLE></TITLE></HEAD><BODY><FONT FACE="Arial" SIZE=2><br/>
 <br/><b>Més informació</b><br/><a href="https://www.agenda
 .ad/activitat/andorra-la-vella/musica/concert-de-nadal del-
 cor-dels-petits-cantors-del-principat-dandorra">https://www.
 agenda.ad/activitat/andorra-la-vella/musica/concert-de-nadal
  del-cor-dels-petits-cantors-del-principat-dandorra</a><br/
 ><br/><br/><b>Organitza</b><br/>Petits Cantors del Principat
  d'Andorra</FONT></BODY></HTML>
END:VEVENT
END:VCALENDAR